BEGIN:VCALENDAR
VERSION:2.0
PRODID:-//hacksw/handcal//NONSGML v1.0//EN
BEGIN:VEVENT
SUMMARY:Entrainement libre
UID:bdcdd272-78c1-44fa-8653-15a0e21a7446
DTSTART:20261031T160000Z
DTEND:20261031T190000Z
LOCATION:Localisation   
CATEGORIES:Sportif
STATUS:
URL;VALUE=URI:https://archers-de-quimperle.sportsregions.fr/evenements/2026/10/31/entrainement-libre-2428279
END:VEVENT
END:VCALENDAR
