BEGIN:VCALENDAR
VERSION:2.0
PRODID:-//hacksw/handcal//NONSGML v1.0//EN
BEGIN:VEVENT
SUMMARY:Cours deuxieme et +
UID:c1649194-a7a7-4f47-84d5-1fad6449fa85
DTSTART:20261107T143000Z
DTEND:20261107T160000Z
LOCATION:Localisation   
CATEGORIES:Sportif
STATUS:
URL;VALUE=URI:https://archers-de-quimperle.sportsregions.fr/evenements/2026/11/07/cours-deuxieme-et-2428124
END:VEVENT
END:VCALENDAR
