BEGIN:VCALENDAR
VERSION:2.0
PRODID:-//hacksw/handcal//NONSGML v1.0//EN
BEGIN:VEVENT
SUMMARY:Cours premiere annee
UID:0c45fbb6-9541-4b29-b319-cf891e6142fe
DTSTART:20261107T130000Z
DTEND:20261107T143000Z
LOCATION:Localisation   
CATEGORIES:Sportif
STATUS:
URL;VALUE=URI:https://archers-de-quimperle.sportsregions.fr/evenements/2026/11/07/cours-premiere-annee-2427970
END:VEVENT
END:VCALENDAR
