BEGIN:VCALENDAR
VERSION:2.0
PRODID:-//hacksw/handcal//NONSGML v1.0//EN
BEGIN:VEVENT
SUMMARY:Entrainement libre
UID:d553d6d7-09bf-44ce-8af9-e77722336be4
DTSTART:20261107T160000Z
DTEND:20261107T190000Z
LOCATION:Localisation   
CATEGORIES:Sportif
STATUS:
URL;VALUE=URI:https://archers-de-quimperle.sportsregions.fr/evenements/2026/11/07/entrainement-libre-2428278
END:VEVENT
END:VCALENDAR
