BEGIN:VCALENDAR
VERSION:2.0
PRODID:-//hacksw/handcal//NONSGML v1.0//EN
BEGIN:VEVENT
SUMMARY:Cours premiere annee
UID:8b360716-78d8-46d2-b3fe-51034050aa10
DTSTART:20261114T130000Z
DTEND:20261114T143000Z
LOCATION:Localisation   
CATEGORIES:Sportif
STATUS:
URL;VALUE=URI:https://archers-de-quimperle.sportsregions.fr/evenements/2026/11/14/cours-premiere-annee-2427969
END:VEVENT
END:VCALENDAR
