BEGIN:VCALENDAR
VERSION:2.0
PRODID:-//hacksw/handcal//NONSGML v1.0//EN
BEGIN:VEVENT
SUMMARY:Cours deuxieme et +
UID:d171dbec-b923-4c4a-8e29-e75cf9c5999f
DTSTART:20261121T143000Z
DTEND:20261121T160000Z
LOCATION:Localisation   
CATEGORIES:Sportif
STATUS:
URL;VALUE=URI:https://archers-de-quimperle.sportsregions.fr/evenements/2026/11/21/cours-deuxieme-et-2428122
END:VEVENT
END:VCALENDAR
