BEGIN:VCALENDAR
VERSION:2.0
PRODID:-//hacksw/handcal//NONSGML v1.0//EN
BEGIN:VEVENT
SUMMARY:Cours premiere annee
UID:53446a88-47b8-4c1e-8f85-d3143b94812d
DTSTART:20261121T130000Z
DTEND:20261121T143000Z
LOCATION:Localisation   
CATEGORIES:Sportif
STATUS:
URL;VALUE=URI:https://archers-de-quimperle.sportsregions.fr/evenements/2026/11/21/cours-premiere-annee-2427968
END:VEVENT
END:VCALENDAR
