BEGIN:VCALENDAR
VERSION:2.0
PRODID:-//hacksw/handcal//NONSGML v1.0//EN
BEGIN:VEVENT
SUMMARY:Entrainement libre
UID:62deb722-a4d5-438d-9624-2a39ff1468fc
DTSTART:20261121T160000Z
DTEND:20261121T190000Z
LOCATION:Localisation   
CATEGORIES:Sportif
STATUS:
URL;VALUE=URI:https://archers-de-quimperle.sportsregions.fr/evenements/2026/11/21/entrainement-libre-2428276
END:VEVENT
END:VCALENDAR
