BEGIN:VCALENDAR
VERSION:2.0
PRODID:-//hacksw/handcal//NONSGML v1.0//EN
BEGIN:VEVENT
SUMMARY:Cours deuxieme et +
UID:6aae3aa5-af2c-478d-8459-1e16767ba58e
DTSTART:20261128T143000Z
DTEND:20261128T160000Z
LOCATION:Localisation   
CATEGORIES:Sportif
STATUS:
URL;VALUE=URI:https://archers-de-quimperle.sportsregions.fr/evenements/2026/11/28/cours-deuxieme-et-2428121
END:VEVENT
END:VCALENDAR
