BEGIN:VCALENDAR
VERSION:2.0
PRODID:-//hacksw/handcal//NONSGML v1.0//EN
BEGIN:VEVENT
SUMMARY:Cours premiere annee
UID:29f82c87-3459-4b61-ac79-a4cdfff23648
DTSTART:20261128T130000Z
DTEND:20261128T143000Z
LOCATION:Localisation   
CATEGORIES:Sportif
STATUS:
URL;VALUE=URI:https://archers-de-quimperle.sportsregions.fr/evenements/2026/11/28/cours-premiere-annee-2427967
END:VEVENT
END:VCALENDAR
