BEGIN:VCALENDAR
VERSION:2.0
PRODID:-//hacksw/handcal//NONSGML v1.0//EN
BEGIN:VEVENT
SUMMARY:Entrainement libre
UID:c238bc9d-8c8a-407e-b58d-34a5ef6f0f8a
DTSTART:20261128T160000Z
DTEND:20261128T190000Z
LOCATION:Localisation   
CATEGORIES:Sportif
STATUS:
URL;VALUE=URI:https://archers-de-quimperle.sportsregions.fr/evenements/2026/11/28/entrainement-libre-2428275
END:VEVENT
END:VCALENDAR
