BEGIN:VCALENDAR
VERSION:2.0
PRODID:-//hacksw/handcal//NONSGML v1.0//EN
BEGIN:VEVENT
SUMMARY:Cours deuxieme et +
UID:71761b7c-2243-4dfb-9968-8be8711db9ef
DTSTART:20261205T143000Z
DTEND:20261205T160000Z
LOCATION:Localisation   
CATEGORIES:Sportif
STATUS:
URL;VALUE=URI:https://archers-de-quimperle.sportsregions.fr/evenements/2026/12/05/cours-deuxieme-et-2428089
END:VEVENT
END:VCALENDAR
