BEGIN:VCALENDAR
VERSION:2.0
PRODID:-//hacksw/handcal//NONSGML v1.0//EN
BEGIN:VEVENT
SUMMARY:Cours premiere annee
UID:547ed65d-f247-4e52-ae0f-dcf235ac9fc2
DTSTART:20261205T130000Z
DTEND:20261205T143000Z
LOCATION:Localisation   
CATEGORIES:Sportif
STATUS:
URL;VALUE=URI:https://archers-de-quimperle.sportsregions.fr/evenements/2026/12/05/cours-premiere-annee-2427935
END:VEVENT
END:VCALENDAR
