BEGIN:VCALENDAR
VERSION:2.0
PRODID:-//hacksw/handcal//NONSGML v1.0//EN
BEGIN:VEVENT
SUMMARY:Entrainement libre
UID:7469875d-afa6-4879-a2e8-04ad85c24063
DTSTART:20261205T160000Z
DTEND:20261205T190000Z
LOCATION:Localisation   
CATEGORIES:Sportif
STATUS:
URL;VALUE=URI:https://archers-de-quimperle.sportsregions.fr/evenements/2026/12/05/entrainement-libre-2428243
END:VEVENT
END:VCALENDAR
