BEGIN:VCALENDAR
VERSION:2.0
PRODID:-//hacksw/handcal//NONSGML v1.0//EN
BEGIN:VEVENT
SUMMARY:Cours deuxieme et +
UID:f3e828d0-992c-4744-920a-66bf0ffb8753
DTSTART:20261212T143000Z
DTEND:20261212T160000Z
LOCATION:Localisation   
CATEGORIES:Sportif
STATUS:
URL;VALUE=URI:https://archers-de-quimperle.sportsregions.fr/evenements/2026/12/12/cours-deuxieme-et-2428098
END:VEVENT
END:VCALENDAR
