BEGIN:VCALENDAR
VERSION:2.0
PRODID:-//hacksw/handcal//NONSGML v1.0//EN
BEGIN:VEVENT
SUMMARY:Cours premiere annee
UID:9656b363-1109-45f7-b263-05d037a84830
DTSTART:20261219T130000Z
DTEND:20261219T143000Z
LOCATION:Localisation   
CATEGORIES:Sportif
STATUS:
URL;VALUE=URI:https://archers-de-quimperle.sportsregions.fr/evenements/2026/12/19/cours-premiere-annee-2427981
END:VEVENT
END:VCALENDAR
