BEGIN:VCALENDAR
VERSION:2.0
PRODID:-//hacksw/handcal//NONSGML v1.0//EN
BEGIN:VEVENT
SUMMARY:Entrainement libre
UID:d1f9bcac-2ac4-45e5-b622-80e16eea01a4
DTSTART:20261219T160000Z
DTEND:20261219T190000Z
LOCATION:Localisation   
CATEGORIES:Sportif
STATUS:
URL;VALUE=URI:https://archers-de-quimperle.sportsregions.fr/evenements/2026/12/19/entrainement-libre-2428289
END:VEVENT
END:VCALENDAR
