BEGIN:VCALENDAR
VERSION:2.0
PRODID:-//hacksw/handcal//NONSGML v1.0//EN
BEGIN:VEVENT
SUMMARY:Cours premiere annee
UID:c578f8f7-492d-4be5-a506-9d7f57886135
DTSTART:20261226T130000Z
DTEND:20261226T143000Z
LOCATION:Localisation   
CATEGORIES:Sportif
STATUS:
URL;VALUE=URI:https://archers-de-quimperle.sportsregions.fr/evenements/2026/12/26/cours-premiere-annee-2427990
END:VEVENT
END:VCALENDAR
