BEGIN:VCALENDAR
VERSION:2.0
PRODID:-//hacksw/handcal//NONSGML v1.0//EN
BEGIN:VEVENT
SUMMARY:Entrainement libre
UID:1df1bd79-b53d-47d1-b3ca-bcf9e0bdac6c
DTSTART:20261226T160000Z
DTEND:20261226T190000Z
LOCATION:Localisation   
CATEGORIES:Sportif
STATUS:
URL;VALUE=URI:https://archers-de-quimperle.sportsregions.fr/evenements/2026/12/26/entrainement-libre-2428298
END:VEVENT
END:VCALENDAR
