BEGIN:VCALENDAR
VERSION:2.0
PRODID:-//hacksw/handcal//NONSGML v1.0//EN
BEGIN:VEVENT
SUMMARY:Cours deuxieme et +
UID:a12d5d61-a8b5-418c-82e7-b749545229dc
DTSTART:20270102T143000Z
DTEND:20270102T160000Z
LOCATION:Localisation   
CATEGORIES:Sportif
STATUS:
URL;VALUE=URI:https://archers-de-quimperle.sportsregions.fr/evenements/2027/01/02/cours-deuxieme-et-2428133
END:VEVENT
END:VCALENDAR
