BEGIN:VCALENDAR
VERSION:2.0
PRODID:-//hacksw/handcal//NONSGML v1.0//EN
BEGIN:VEVENT
SUMMARY:Entrainement libre
UID:90e86c26-b90c-4e13-b1cb-a8e5997b1d31
DTSTART:20270102T160000Z
DTEND:20270102T190000Z
LOCATION:Localisation   
CATEGORIES:Sportif
STATUS:
URL;VALUE=URI:https://archers-de-quimperle.sportsregions.fr/evenements/2027/01/02/entrainement-libre-2428287
END:VEVENT
END:VCALENDAR
