BEGIN:VCALENDAR
VERSION:2.0
PRODID:-//hacksw/handcal//NONSGML v1.0//EN
BEGIN:VEVENT
SUMMARY:Cours deuxieme et +
UID:1fc2dd48-65ec-4826-a808-b0db723228de
DTSTART:20270109T143000Z
DTEND:20270109T160000Z
LOCATION:Localisation   
CATEGORIES:Sportif
STATUS:
URL;VALUE=URI:https://archers-de-quimperle.sportsregions.fr/evenements/2027/01/09/cours-deuxieme-et-2428132
END:VEVENT
END:VCALENDAR
