BEGIN:VCALENDAR
VERSION:2.0
PRODID:-//hacksw/handcal//NONSGML v1.0//EN
BEGIN:VEVENT
SUMMARY:Cours premiere annee
UID:883ab3be-5b86-426b-9e98-fd953266d1fb
DTSTART:20270109T130000Z
DTEND:20270109T143000Z
LOCATION:Localisation   
CATEGORIES:Sportif
STATUS:
URL;VALUE=URI:https://archers-de-quimperle.sportsregions.fr/evenements/2027/01/09/cours-premiere-annee-2427978
END:VEVENT
END:VCALENDAR
