BEGIN:VCALENDAR
VERSION:2.0
PRODID:-//hacksw/handcal//NONSGML v1.0//EN
BEGIN:VEVENT
SUMMARY:Entrainement libre
UID:fa42a30e-9e13-4a13-a7d8-c1aad19aa7d7
DTSTART:20270109T160000Z
DTEND:20270109T190000Z
LOCATION:Localisation   
CATEGORIES:Sportif
STATUS:
URL;VALUE=URI:https://archers-de-quimperle.sportsregions.fr/evenements/2027/01/09/entrainement-libre-2428286
END:VEVENT
END:VCALENDAR
