BEGIN:VCALENDAR
VERSION:2.0
PRODID:-//hacksw/handcal//NONSGML v1.0//EN
BEGIN:VEVENT
SUMMARY:Cours deuxieme et +
UID:49786a1e-9d35-4b9a-a7e4-7a0cb299bd63
DTSTART:20270116T143000Z
DTEND:20270116T160000Z
LOCATION:Localisation   
CATEGORIES:Sportif
STATUS:
URL;VALUE=URI:https://archers-de-quimperle.sportsregions.fr/evenements/2027/01/16/cours-deuxieme-et-2428130
END:VEVENT
END:VCALENDAR
