BEGIN:VCALENDAR
VERSION:2.0
PRODID:-//hacksw/handcal//NONSGML v1.0//EN
BEGIN:VEVENT
SUMMARY:Cours premiere annee
UID:6587986e-bc47-499f-94b7-6971ab9b8293
DTSTART:20270116T130000Z
DTEND:20270116T143000Z
LOCATION:Localisation   
CATEGORIES:Sportif
STATUS:
URL;VALUE=URI:https://archers-de-quimperle.sportsregions.fr/evenements/2027/01/16/cours-premiere-annee-2427976
END:VEVENT
END:VCALENDAR
