BEGIN:VCALENDAR
VERSION:2.0
PRODID:-//hacksw/handcal//NONSGML v1.0//EN
BEGIN:VEVENT
SUMMARY:Entrainement libre
UID:696ace07-b702-472f-a7a0-5dca9bbe53f1
DTSTART:20270116T160000Z
DTEND:20270116T190000Z
LOCATION:Localisation   
CATEGORIES:Sportif
STATUS:
URL;VALUE=URI:https://archers-de-quimperle.sportsregions.fr/evenements/2027/01/16/entrainement-libre-2428284
END:VEVENT
END:VCALENDAR
