BEGIN:VCALENDAR
VERSION:2.0
PRODID:-//hacksw/handcal//NONSGML v1.0//EN
BEGIN:VEVENT
SUMMARY:Cours deuxieme et +
UID:f8407d9d-605d-41fc-a114-545178a6cd5b
DTSTART:20270123T143000Z
DTEND:20270123T160000Z
LOCATION:Localisation   
CATEGORIES:Sportif
STATUS:
URL;VALUE=URI:https://archers-de-quimperle.sportsregions.fr/evenements/2027/01/23/cours-deuxieme-et-2428129
END:VEVENT
END:VCALENDAR
