BEGIN:VCALENDAR
VERSION:2.0
PRODID:-//hacksw/handcal//NONSGML v1.0//EN
BEGIN:VEVENT
SUMMARY:Cours premiere annee
UID:8ed88f46-85d7-4980-810f-5e230ce92520
DTSTART:20270123T130000Z
DTEND:20270123T143000Z
LOCATION:Localisation   
CATEGORIES:Sportif
STATUS:
URL;VALUE=URI:https://archers-de-quimperle.sportsregions.fr/evenements/2027/01/23/cours-premiere-annee-2427975
END:VEVENT
END:VCALENDAR
