BEGIN:VCALENDAR
VERSION:2.0
PRODID:-//hacksw/handcal//NONSGML v1.0//EN
BEGIN:VEVENT
SUMMARY:Cours deuxieme et +
UID:a74baa3a-3f94-4053-a048-291ec40710cf
DTSTART:20270130T143000Z
DTEND:20270130T160000Z
LOCATION:Localisation   
CATEGORIES:Sportif
STATUS:
URL;VALUE=URI:https://archers-de-quimperle.sportsregions.fr/evenements/2027/01/30/cours-deuxieme-et-2428128
END:VEVENT
END:VCALENDAR
