BEGIN:VCALENDAR
VERSION:2.0
PRODID:-//hacksw/handcal//NONSGML v1.0//EN
BEGIN:VEVENT
SUMMARY:Cours premiere annee
UID:a5c1354e-6ba0-459b-8c77-71d266dd8d8b
DTSTART:20270130T130000Z
DTEND:20270130T143000Z
LOCATION:Localisation   
CATEGORIES:Sportif
STATUS:
URL;VALUE=URI:https://archers-de-quimperle.sportsregions.fr/evenements/2027/01/30/cours-premiere-annee-2427974
END:VEVENT
END:VCALENDAR
