BEGIN:VCALENDAR
VERSION:2.0
PRODID:-//hacksw/handcal//NONSGML v1.0//EN
BEGIN:VEVENT
SUMMARY:Entrainement libre
UID:188d1a33-2dfc-4780-8b88-bd6815c18cf8
DTSTART:20270130T160000Z
DTEND:20270130T190000Z
LOCATION:Localisation   
CATEGORIES:Sportif
STATUS:
URL;VALUE=URI:https://archers-de-quimperle.sportsregions.fr/evenements/2027/01/30/entrainement-libre-2428282
END:VEVENT
END:VCALENDAR
