BEGIN:VCALENDAR
VERSION:2.0
PRODID:-//hacksw/handcal//NONSGML v1.0//EN
BEGIN:VEVENT
SUMMARY:Cours premiere annee
UID:2537a720-b864-4e33-808d-50d686d1ae8d
DTSTART:20270206T130000Z
DTEND:20270206T143000Z
LOCATION:Localisation   
CATEGORIES:Sportif
STATUS:
URL;VALUE=URI:https://archers-de-quimperle.sportsregions.fr/evenements/2027/02/06/cours-premiere-annee-2427973
END:VEVENT
END:VCALENDAR
