BEGIN:VCALENDAR
VERSION:2.0
PRODID:-//hacksw/handcal//NONSGML v1.0//EN
BEGIN:VEVENT
SUMMARY:Cours deuxieme et +
UID:bdd35c84-33aa-4da8-839e-86a7e40caaba
DTSTART:20270213T143000Z
DTEND:20270213T160000Z
LOCATION:Localisation   
CATEGORIES:Sportif
STATUS:
URL;VALUE=URI:https://archers-de-quimperle.sportsregions.fr/evenements/2027/02/13/cours-deuxieme-et-2428136
END:VEVENT
END:VCALENDAR
