BEGIN:VCALENDAR
VERSION:2.0
PRODID:-//hacksw/handcal//NONSGML v1.0//EN
BEGIN:VEVENT
SUMMARY:Cours premiere annee
UID:d53da04b-6f61-4148-8170-fd7446bd1e76
DTSTART:20270213T130000Z
DTEND:20270213T143000Z
LOCATION:Localisation   
CATEGORIES:Sportif
STATUS:
URL;VALUE=URI:https://archers-de-quimperle.sportsregions.fr/evenements/2027/02/13/cours-premiere-annee-2427982
END:VEVENT
END:VCALENDAR
