BEGIN:VCALENDAR
VERSION:2.0
PRODID:-//hacksw/handcal//NONSGML v1.0//EN
BEGIN:VEVENT
SUMMARY:Entrainement libre
UID:50f4f6ce-48a1-4a00-a625-ceb3d51edf94
DTSTART:20270213T160000Z
DTEND:20270213T190000Z
LOCATION:Localisation   
CATEGORIES:Sportif
STATUS:
URL;VALUE=URI:https://archers-de-quimperle.sportsregions.fr/evenements/2027/02/13/entrainement-libre-2428290
END:VEVENT
END:VCALENDAR
