BEGIN:VCALENDAR
VERSION:2.0
PRODID:-//hacksw/handcal//NONSGML v1.0//EN
BEGIN:VEVENT
SUMMARY:Cours premiere annee
UID:a4f25e87-2fef-4d37-a80c-2a816880760a
DTSTART:20270417T120000Z
DTEND:20270417T133000Z
LOCATION:Localisation   
CATEGORIES:Sportif
STATUS:
URL;VALUE=URI:https://archers-de-quimperle.sportsregions.fr/evenements/2027/04/17/cours-premiere-annee-2427972
END:VEVENT
END:VCALENDAR
