BEGIN:VCALENDAR
VERSION:2.0
PRODID:-//hacksw/handcal//NONSGML v1.0//EN
BEGIN:VEVENT
SUMMARY:Cours deuxieme et +
UID:5a93508d-17ad-4796-b10d-4bc8b7f55303
DTSTART:20270501T133000Z
DTEND:20270501T150000Z
LOCATION:Localisation   
CATEGORIES:Sportif
STATUS:
URL;VALUE=URI:https://archers-de-quimperle.sportsregions.fr/evenements/2027/05/01/cours-deuxieme-et-2428145
END:VEVENT
END:VCALENDAR
