BEGIN:VCALENDAR
VERSION:2.0
PRODID:-//hacksw/handcal//NONSGML v1.0//EN
BEGIN:VEVENT
SUMMARY:Cours premiere annee
UID:fe512140-1eca-4812-a9e2-132a66323630
DTSTART:20270501T120000Z
DTEND:20270501T133000Z
LOCATION:Localisation   
CATEGORIES:Sportif
STATUS:
URL;VALUE=URI:https://archers-de-quimperle.sportsregions.fr/evenements/2027/05/01/cours-premiere-annee-2427991
END:VEVENT
END:VCALENDAR
