BEGIN:VCALENDAR
VERSION:2.0
PRODID:-//hacksw/handcal//NONSGML v1.0//EN
BEGIN:VEVENT
SUMMARY:Entrainement libre
UID:5876fa56-2bf9-4fd9-beec-77c5d3f1e43c
DTSTART:20270501T150000Z
DTEND:20270501T180000Z
LOCATION:Localisation   
CATEGORIES:Sportif
STATUS:
URL;VALUE=URI:https://archers-de-quimperle.sportsregions.fr/evenements/2027/05/01/entrainement-libre-2428299
END:VEVENT
END:VCALENDAR
