BEGIN:VCALENDAR
VERSION:2.0
PRODID:-//hacksw/handcal//NONSGML v1.0//EN
BEGIN:VEVENT
SUMMARY:Cours premiere annee
UID:723ef59e-b7f0-4c13-89e8-be165def3aa8
DTSTART:20270508T120000Z
DTEND:20270508T133000Z
LOCATION:Localisation   
CATEGORIES:Sportif
STATUS:
URL;VALUE=URI:https://archers-de-quimperle.sportsregions.fr/evenements/2027/05/08/cours-premiere-annee-2427999
END:VEVENT
END:VCALENDAR
