BEGIN:VCALENDAR
VERSION:2.0
PRODID:-//hacksw/handcal//NONSGML v1.0//EN
BEGIN:VEVENT
SUMMARY:Cours deuxieme et +
UID:eff9dcb7-f467-4b18-8344-c84b28a025a4
DTSTART:20270515T133000Z
DTEND:20270515T150000Z
LOCATION:Localisation   
CATEGORIES:Sportif
STATUS:
URL;VALUE=URI:https://archers-de-quimperle.sportsregions.fr/evenements/2027/05/15/cours-deuxieme-et-2428152
END:VEVENT
END:VCALENDAR
