BEGIN:VCALENDAR
VERSION:2.0
PRODID:-//hacksw/handcal//NONSGML v1.0//EN
BEGIN:VEVENT
SUMMARY:Cours premiere annee
UID:4d93995b-7364-44e0-a85a-3cc278837a8d
DTSTART:20270515T120000Z
DTEND:20270515T133000Z
LOCATION:Localisation   
CATEGORIES:Sportif
STATUS:
URL;VALUE=URI:https://archers-de-quimperle.sportsregions.fr/evenements/2027/05/15/cours-premiere-annee-2427998
END:VEVENT
END:VCALENDAR
