BEGIN:VCALENDAR
VERSION:2.0
PRODID:-//hacksw/handcal//NONSGML v1.0//EN
BEGIN:VEVENT
SUMMARY:Entrainement libre
UID:9b49815d-c0c3-4eff-bc16-6ca4d97012b5
DTSTART:20270515T150000Z
DTEND:20270515T180000Z
LOCATION:Localisation   
CATEGORIES:Sportif
STATUS:
URL;VALUE=URI:https://archers-de-quimperle.sportsregions.fr/evenements/2027/05/15/entrainement-libre-2428306
END:VEVENT
END:VCALENDAR
