BEGIN:VCALENDAR
VERSION:2.0
PRODID:-//hacksw/handcal//NONSGML v1.0//EN
BEGIN:VEVENT
SUMMARY:Cours deuxieme et +
UID:3aa9a35f-29eb-4c87-b07d-915f80c9c910
DTSTART:20270522T133000Z
DTEND:20270522T150000Z
LOCATION:Localisation   
CATEGORIES:Sportif
STATUS:
URL;VALUE=URI:https://archers-de-quimperle.sportsregions.fr/evenements/2027/05/22/cours-deuxieme-et-2428150
END:VEVENT
END:VCALENDAR
