BEGIN:VCALENDAR
VERSION:2.0
PRODID:-//hacksw/handcal//NONSGML v1.0//EN
BEGIN:VEVENT
SUMMARY:Cours premiere annee
UID:e0af22a1-8693-4114-a709-77379aaefd91
DTSTART:20270522T120000Z
DTEND:20270522T133000Z
LOCATION:Localisation   
CATEGORIES:Sportif
STATUS:
URL;VALUE=URI:https://archers-de-quimperle.sportsregions.fr/evenements/2027/05/22/cours-premiere-annee-2427996
END:VEVENT
END:VCALENDAR
