BEGIN:VCALENDAR
VERSION:2.0
PRODID:-//hacksw/handcal//NONSGML v1.0//EN
BEGIN:VEVENT
SUMMARY:Entrainement libre
UID:1b660199-6fe2-483f-8203-f274c36657bf
DTSTART:20270522T150000Z
DTEND:20270522T180000Z
LOCATION:Localisation   
CATEGORIES:Sportif
STATUS:
URL;VALUE=URI:https://archers-de-quimperle.sportsregions.fr/evenements/2027/05/22/entrainement-libre-2428304
END:VEVENT
END:VCALENDAR
