BEGIN:VCALENDAR
VERSION:2.0
PRODID:-//hacksw/handcal//NONSGML v1.0//EN
BEGIN:VEVENT
SUMMARY:Cours deuxieme et +
UID:910404eb-c36a-477c-9e13-06f4ffb03765
DTSTART:20270529T133000Z
DTEND:20270529T150000Z
LOCATION:Localisation   
CATEGORIES:Sportif
STATUS:
URL;VALUE=URI:https://archers-de-quimperle.sportsregions.fr/evenements/2027/05/29/cours-deuxieme-et-2428149
END:VEVENT
END:VCALENDAR
