BEGIN:VCALENDAR
VERSION:2.0
PRODID:-//hacksw/handcal//NONSGML v1.0//EN
BEGIN:VEVENT
SUMMARY:Cours premiere annee
UID:d17d5a01-2c97-4355-9842-3bf03a5ef2f8
DTSTART:20270529T120000Z
DTEND:20270529T133000Z
LOCATION:Localisation   
CATEGORIES:Sportif
STATUS:
URL;VALUE=URI:https://archers-de-quimperle.sportsregions.fr/evenements/2027/05/29/cours-premiere-annee-2427995
END:VEVENT
END:VCALENDAR
