BEGIN:VCALENDAR
VERSION:2.0
PRODID:-//hacksw/handcal//NONSGML v1.0//EN
BEGIN:VEVENT
SUMMARY:Entrainement libre
UID:474594e1-b5bd-4d51-bdbc-5b15bcbd1f0c
DTSTART:20270529T150000Z
DTEND:20270529T180000Z
LOCATION:Localisation   
CATEGORIES:Sportif
STATUS:
URL;VALUE=URI:https://archers-de-quimperle.sportsregions.fr/evenements/2027/05/29/entrainement-libre-2428303
END:VEVENT
END:VCALENDAR
